BEGIN:VCALENDAR
VERSION:2.0
PRODID:SchoolNow
CALSCALE:GREGORIAN
BEGIN:VEVENT
UID:d1f966e4-2be1-11ee-9f5e-0a58a9feac02
DTSTAMP:20230726T182538Z
SUMMARY:APMS GBB Tournament Championship @ Arbor
URL;VALUE=URI:https://www.arbor145.org/calendar/4523487/apms-gbb-tournament
 -championship-arbor
DTSTART;VALUE=DATE:20231207
DTEND;VALUE=DATE:20231208
END:VEVENT
END:VCALENDAR
