BEGIN:VCALENDAR
VERSION:2.0
PRODID:SchoolNow
CALSCALE:GREGORIAN
BEGIN:VEVENT
UID:31da40b0-2be2-11ee-a417-0e6883f767cf
DTSTAMP:20230726T182819Z
SUMMARY:APMS GBB All Star Game @ Hamlin
URL;VALUE=URI:https://www.arbor145.org/calendar/4523497/apms-gbb-all-star-g
 ame-hamlin
DTSTART;VALUE=DATE:20231212
DTEND;VALUE=DATE:20231213
END:VEVENT
END:VCALENDAR
