BEGIN:VCALENDAR
VERSION:2.0
PRODID:SchoolNow
CALSCALE:GREGORIAN
BEGIN:VEVENT
UID:5f080752-2be2-11ee-9f08-02ef8f5c4d55
DTSTAMP:20230726T183009Z
SUMMARY:Winter Break
URL;VALUE=URI:https://www.arbor145.org/calendar/4523499/winter-break
DTSTART;VALUE=DATE:20231222
DTEND;VALUE=DATE:20240108
END:VEVENT
END:VCALENDAR
