BEGIN:VCALENDAR
VERSION:2.0
PRODID:SchoolNow
CALSCALE:GREGORIAN
BEGIN:VEVENT
UID:9bcf97f4-2be2-11ee-af58-0a58a9feac02
DTSTAMP:20240111T191729Z
SUMMARY:Arbor BBB Arbor vs Hille
URL;VALUE=URI:https://www.arbor145.org/calendar/4523617/arbor-bbb-arbor-hil
 le
DTSTART;VALUE=DATE:20240111
DTEND;VALUE=DATE:20240112
END:VEVENT
END:VCALENDAR
