BEGIN:VCALENDAR
VERSION:2.0
PRODID:SchoolNow
CALSCALE:GREGORIAN
BEGIN:VEVENT
UID:a5424ebc-2be2-11ee-86d3-0a58a9feac02
DTSTAMP:20230726T183133Z
SUMMARY:School Resumes
URL;VALUE=URI:https://www.arbor145.org/calendar/4523631/school-resumes
DTSTART;VALUE=DATE:20240108
DTEND;VALUE=DATE:20240109
END:VEVENT
END:VCALENDAR
