BEGIN:VCALENDAR
VERSION:2.0
PRODID:SchoolNow
CALSCALE:GREGORIAN
BEGIN:VEVENT
UID:e44429fa-2be2-11ee-baab-026c53c55dab
DTSTAMP:20230726T183318Z
SUMMARY:Martin Luther King Jr\, Birthday - School Closed
URL;VALUE=URI:https://www.arbor145.org/calendar/4523861/martin-luther-king-
 jr-birthday-school-closed
DTSTART;VALUE=DATE:20240115
DTEND;VALUE=DATE:20240116
END:VEVENT
END:VCALENDAR
