BEGIN:VCALENDAR
VERSION:2.0
PRODID:SchoolNow
CALSCALE:GREGORIAN
BEGIN:VEVENT
UID:fe47735c-2be2-11ee-b63c-0a58a9feac02
DTSTAMP:20230726T183402Z
SUMMARY:APMS BBB Arbor vs Central
URL;VALUE=URI:https://www.arbor145.org/calendar/4523862/apms-bbb-arbor-vs-c
 entral
DTSTART;VALUE=DATE:20240116
DTEND;VALUE=DATE:20240117
END:VEVENT
END:VCALENDAR
