BEGIN:VCALENDAR
VERSION:2.0
PRODID:SchoolNow
CALSCALE:GREGORIAN
BEGIN:VEVENT
UID:0d77944c-2be3-11ee-8ab0-0a98f260fbcb
DTSTAMP:20230726T183427Z
SUMMARY:APMS Star Testing - ELA
URL;VALUE=URI:https://www.arbor145.org/calendar/4523863/apms-star-testing-e
 la
DTSTART;VALUE=DATE:20240117
DTEND;VALUE=DATE:20240118
END:VEVENT
END:VCALENDAR
