BEGIN:VCALENDAR
VERSION:2.0
PRODID:SchoolNow
CALSCALE:GREGORIAN
BEGIN:VEVENT
UID:1ed31aea-2be3-11ee-a312-026c53c55dab
DTSTAMP:20230726T183456Z
SUMMARY:Mid Trimester II Grades Due
URL;VALUE=URI:https://www.arbor145.org/calendar/4523866/mid-trimester-ii-gr
 ades-due
DTSTART;VALUE=DATE:20240117
DTEND;VALUE=DATE:20240118
END:VEVENT
END:VCALENDAR
