BEGIN:VCALENDAR
VERSION:2.0
PRODID:SchoolNow
CALSCALE:GREGORIAN
BEGIN:VEVENT
UID:2d554a8e-2be3-11ee-96c8-0a58a9feac02
DTSTAMP:20230726T183521Z
SUMMARY:APMS BBB Arbor @ Hamlin
URL;VALUE=URI:https://www.arbor145.org/calendar/4524307/apms-bbb-arbor-haml
 in
DTSTART;VALUE=DATE:20240118
DTEND;VALUE=DATE:20240119
END:VEVENT
END:VCALENDAR
