BEGIN:VCALENDAR
VERSION:2.0
PRODID:SchoolNow
CALSCALE:GREGORIAN
BEGIN:VEVENT
UID:39ef4380-2be3-11ee-b23e-0a98f260fbcb
DTSTAMP:20230726T183542Z
SUMMARY:APMS Star Testing - Math
URL;VALUE=URI:https://www.arbor145.org/calendar/4524330/apms-star-testing-m
 ath
DTSTART;VALUE=DATE:20240118
DTEND;VALUE=DATE:20240119
END:VEVENT
END:VCALENDAR
