BEGIN:VCALENDAR
VERSION:2.0
PRODID:SchoolNow
CALSCALE:GREGORIAN
BEGIN:VEVENT
UID:5877d90c-2be3-11ee-b217-0a58a9feac02
DTSTAMP:20230726T183633Z
SUMMARY:Mid Trimester II Progress Reports Available in Alma
URL;VALUE=URI:https://www.arbor145.org/calendar/4524333/mid-trimester-ii-pr
 ogress-reports-available-in-alma
DTSTART;VALUE=DATE:20240119
DTEND;VALUE=DATE:20240120
END:VEVENT
END:VCALENDAR
