BEGIN:VCALENDAR
VERSION:2.0
PRODID:SchoolNow
CALSCALE:GREGORIAN
BEGIN:VEVENT
UID:7a6a0af8-2be3-11ee-aabd-0a58a9feac02
DTSTAMP:20230726T183730Z
SUMMARY:APMS BBB Arbor @ Finley
URL;VALUE=URI:https://www.arbor145.org/calendar/4524336/apms-bbb-arbor-finl
 ey
DTSTART;VALUE=DATE:20240123
DTEND;VALUE=DATE:20240124
END:VEVENT
END:VCALENDAR
