BEGIN:VCALENDAR
VERSION:2.0
PRODID:SchoolNow
CALSCALE:GREGORIAN
BEGIN:VEVENT
UID:873152dc-2be3-11ee-a9af-0a58a9feac02
DTSTAMP:20230726T183752Z
SUMMARY:APMS BBB Arbor @ Worth
URL;VALUE=URI:https://www.arbor145.org/calendar/4524337/apms-bbb-arbor-wort
 h
DTSTART;VALUE=DATE:20240125
DTEND;VALUE=DATE:20240126
END:VEVENT
END:VCALENDAR
