BEGIN:VCALENDAR
VERSION:2.0
PRODID:SchoolNow
CALSCALE:GREGORIAN
BEGIN:VEVENT
UID:94b5166e-2be3-11ee-a88c-02ef8f5c4d55
DTSTAMP:20230726T183814Z
SUMMARY:APMS BBB Arbor vs Kolmar
URL;VALUE=URI:https://www.arbor145.org/calendar/4524338/apms-bbb-arbor-vs-k
 olmar
DTSTART;VALUE=DATE:20240130
DTEND;VALUE=DATE:20240131
END:VEVENT
END:VCALENDAR
