BEGIN:VCALENDAR
VERSION:2.0
PRODID:SchoolNow
CALSCALE:GREGORIAN
BEGIN:VEVENT
UID:c5f68d7a-2be3-11ee-aa2e-0a98f260fbcb
DTSTAMP:20230726T183937Z
SUMMARY:APMS BBB Arbor @ Hille
URL;VALUE=URI:https://www.arbor145.org/calendar/4524341/apms-bbb-arbor-hill
 e
DTSTART;VALUE=DATE:20240206
DTEND;VALUE=DATE:20240207
END:VEVENT
END:VCALENDAR
