BEGIN:VCALENDAR
VERSION:2.0
PRODID:SchoolNow
CALSCALE:GREGORIAN
BEGIN:VEVENT
UID:d8868c60-2be3-11ee-8b40-0a58a9feac02
DTSTAMP:20230726T184008Z
SUMMARY:APMS BBB Arbor @ Central Park
URL;VALUE=URI:https://www.arbor145.org/calendar/4524342/apms-bbb-arbor-cent
 ral-park
DTSTART;VALUE=DATE:20240208
DTEND;VALUE=DATE:20240209
END:VEVENT
END:VCALENDAR
