BEGIN:VCALENDAR
VERSION:2.0
PRODID:SchoolNow
CALSCALE:GREGORIAN
BEGIN:VEVENT
UID:e72a52a6-2be3-11ee-ba09-0e6883f767cf
DTSTAMP:20230726T184033Z
SUMMARY:APMS BBB Arbor vs Prairie
URL;VALUE=URI:https://www.arbor145.org/calendar/4524343/apms-bbb-arbor-vs-p
 rairie
DTSTART;VALUE=DATE:20240212
DTEND;VALUE=DATE:20240213
END:VEVENT
END:VCALENDAR
