BEGIN:VCALENDAR
VERSION:2.0
PRODID:SchoolNow
CALSCALE:GREGORIAN
BEGIN:VEVENT
UID:f816f22c-2be3-11ee-8e82-026c53c55dab
DTSTAMP:20230726T184101Z
SUMMARY:APMS BBB Arbor vs Independence
URL;VALUE=URI:https://www.arbor145.org/calendar/4524344/apms-bbb-arbor-vs-i
 ndependence
DTSTART;VALUE=DATE:20240213
DTEND;VALUE=DATE:20240214
END:VEVENT
END:VCALENDAR
