BEGIN:VCALENDAR
VERSION:2.0
PRODID:SchoolNow
CALSCALE:GREGORIAN
BEGIN:VEVENT
UID:08cbdb28-2be4-11ee-95f5-0a58a9feac02
DTSTAMP:20230726T184129Z
SUMMARY:APMS Cheerfest @ Hille
URL;VALUE=URI:https://www.arbor145.org/calendar/4524346/apms-cheerfest-hill
 e
DTSTART;VALUE=DATE:20240213
DTEND;VALUE=DATE:20240214
END:VEVENT
END:VCALENDAR
