BEGIN:VCALENDAR
VERSION:2.0
PRODID:SchoolNow
CALSCALE:GREGORIAN
BEGIN:VEVENT
UID:160eb06c-2be4-11ee-bbb9-0e6883f767cf
DTSTAMP:20230726T184151Z
SUMMARY:APMS BBB Arbor @ kolmar
URL;VALUE=URI:https://www.arbor145.org/calendar/4524347/apms-bbb-arbor-kolm
 ar
DTSTART;VALUE=DATE:20240215
DTEND;VALUE=DATE:20240216
END:VEVENT
END:VCALENDAR
