BEGIN:VCALENDAR
VERSION:2.0
PRODID:SchoolNow
CALSCALE:GREGORIAN
BEGIN:VEVENT
UID:46c1929c-2be4-11ee-9330-0a58a9feac02
DTSTAMP:20230726T184313Z
SUMMARY:President's Day - School Closed
URL;VALUE=URI:https://www.arbor145.org/calendar/4524348/presidents-day-scho
 ol-closed
DTSTART;VALUE=DATE:20240219
DTEND;VALUE=DATE:20240220
END:VEVENT
END:VCALENDAR
