BEGIN:VCALENDAR
VERSION:2.0
PRODID:SchoolNow
CALSCALE:GREGORIAN
BEGIN:VEVENT
UID:5bdbf3a2-2be4-11ee-a9d9-0a98f260fbcb
DTSTAMP:20230726T184348Z
SUMMARY:APMS BBB Tournament Playoff TBD
URL;VALUE=URI:https://www.arbor145.org/calendar/4524349/apms-bbb-tournament
 -playoff-tbd
DTSTART;VALUE=DATE:20240220
DTEND;VALUE=DATE:20240221
END:VEVENT
END:VCALENDAR
