BEGIN:VCALENDAR
VERSION:2.0
PRODID:SchoolNow
CALSCALE:GREGORIAN
BEGIN:VEVENT
UID:68bdc050-2be4-11ee-a388-0a98f260fbcb
DTSTAMP:20230726T184410Z
SUMMARY:End of Trimester II
URL;VALUE=URI:https://www.arbor145.org/calendar/4524350/end-of-trimester-ii
DTSTART;VALUE=DATE:20240223
DTEND;VALUE=DATE:20240224
END:VEVENT
END:VCALENDAR
