BEGIN:VCALENDAR
VERSION:2.0
PRODID:SchoolNow
CALSCALE:GREGORIAN
BEGIN:VEVENT
UID:89ea3ac4-2be4-11ee-a7d9-0a58a9feac02
DTSTAMP:20230726T184506Z
SUMMARY:Trimester III Begins
URL;VALUE=URI:https://www.arbor145.org/calendar/4524351/trimester-iii-begin
 s
DTSTART;VALUE=DATE:20240226
DTEND;VALUE=DATE:20240227
END:VEVENT
END:VCALENDAR
