BEGIN:VCALENDAR
VERSION:2.0
PRODID:SchoolNow
CALSCALE:GREGORIAN
BEGIN:VEVENT
UID:a654b0f4-2be4-11ee-ad44-0a58a9feac02
DTSTAMP:20230727T020237Z
SUMMARY:APMS BBB Tournament Playoffs @ Prairie
URL;VALUE=URI:https://www.arbor145.org/calendar/4524353/apms-bbb-tournament
 -playoffs-prairie
DTSTART;VALUE=DATE:20240227
DTEND;VALUE=DATE:20240228
END:VEVENT
END:VCALENDAR
