BEGIN:VCALENDAR
VERSION:2.0
PRODID:SchoolNow
CALSCALE:GREGORIAN
BEGIN:VEVENT
UID:8c731500-2be8-11ee-8eb9-0a98f260fbcb
DTSTAMP:20230726T191348Z
SUMMARY:All Star Band Rehearsel @ Arbor Park (Tentative)
URL;VALUE=URI:https://www.arbor145.org/calendar/4524415/all-star-band-rehea
 rsel-arbor-park-tentative
DTSTART;VALUE=DATE:20240227
DTEND;VALUE=DATE:20240228
END:VEVENT
END:VCALENDAR
