BEGIN:VCALENDAR
VERSION:2.0
PRODID:SchoolNow
CALSCALE:GREGORIAN
BEGIN:VEVENT
UID:a93f5fae-2be8-11ee-af1a-0a58a9feac02
DTSTAMP:20230726T191436Z
SUMMARY:Trimester II Grades Due
URL;VALUE=URI:https://www.arbor145.org/calendar/4524417/trimester-ii-grades
 -due
DTSTART;VALUE=DATE:20240228
DTEND;VALUE=DATE:20240229
END:VEVENT
END:VCALENDAR
