BEGIN:VCALENDAR
VERSION:2.0
PRODID:SchoolNow
CALSCALE:GREGORIAN
BEGIN:VEVENT
UID:dc1f00aa-2be8-11ee-b20c-0a58a9feac02
DTSTAMP:20230726T191602Z
SUMMARY:APMS BB Tournament Championship @ Prairie
URL;VALUE=URI:https://www.arbor145.org/calendar/4524420/apms-bb-tournament-
 championship-prairie
DTSTART;VALUE=DATE:20240229
DTEND;VALUE=DATE:20240301
END:VEVENT
END:VCALENDAR
