BEGIN:VCALENDAR
VERSION:2.0
PRODID:SchoolNow
CALSCALE:GREGORIAN
BEGIN:VEVENT
UID:f65157c0-2be8-11ee-8050-0a98f260fbcb
DTSTAMP:20230726T191645Z
SUMMARY:Trimester II Report Cards Available in ALMA
URL;VALUE=URI:https://www.arbor145.org/calendar/4524422/trimester-ii-report
 -cards-available-in-alma
DTSTART;VALUE=DATE:20240301
DTEND;VALUE=DATE:20240302
END:VEVENT
END:VCALENDAR
