BEGIN:VCALENDAR
VERSION:2.0
PRODID:SchoolNow
CALSCALE:GREGORIAN
BEGIN:VEVENT
UID:2163ff9e-2be9-11ee-91e2-0a98f260fbcb
DTSTAMP:20230726T191758Z
SUMMARY:APMS Band Festival @ Arbor Park
URL;VALUE=URI:https://www.arbor145.org/calendar/4524425/apms-band-festival-
 arbor-park
DTSTART;VALUE=DATE:20240306
DTEND;VALUE=DATE:20240307
END:VEVENT
END:VCALENDAR
