BEGIN:VCALENDAR
VERSION:2.0
PRODID:SchoolNow
CALSCALE:GREGORIAN
BEGIN:VEVENT
UID:40674914-2be9-11ee-9be3-0a58a9feac02
DTSTAMP:20230726T191910Z
SUMMARY:APMS Declamation Event @ Richards H.S.
URL;VALUE=URI:https://www.arbor145.org/calendar/4524428/declamation-event-r
 ichards-h-s
DTSTART;VALUE=DATE:20240309
DTEND;VALUE=DATE:20240310
END:VEVENT
END:VCALENDAR
