BEGIN:VCALENDAR
VERSION:2.0
PRODID:SchoolNow
CALSCALE:GREGORIAN
BEGIN:VEVENT
UID:62e5f17a-2be9-11ee-8aba-0a58a9feac02
DTSTAMP:20230726T191948Z
SUMMARY:APMS BBB All Star Game @ Central Park
URL;VALUE=URI:https://www.arbor145.org/calendar/4524430/apms-bbb-all-star-g
 ame-central-park
DTSTART;VALUE=DATE:20240312
DTEND;VALUE=DATE:20240313
END:VEVENT
END:VCALENDAR
