BEGIN:VCALENDAR
VERSION:2.0
PRODID:SchoolNow
CALSCALE:GREGORIAN
BEGIN:VEVENT
UID:7125caa8-2be9-11ee-82eb-0a58a9feac02
DTSTAMP:20230726T192012Z
SUMMARY:APMS IAR Testing
URL;VALUE=URI:https://www.arbor145.org/calendar/4524432/apms-iar-testing
DTSTART;VALUE=DATE:20240313
DTEND;VALUE=DATE:20240316
END:VEVENT
END:VCALENDAR
