BEGIN:VCALENDAR
VERSION:2.0
PRODID:SchoolNow
CALSCALE:GREGORIAN
BEGIN:VEVENT
UID:8062d920-2be9-11ee-ad70-0a58a9feac02
DTSTAMP:20230726T192037Z
SUMMARY:Spring Break
URL;VALUE=URI:https://www.arbor145.org/calendar/4524433/spring-break
DTSTART;VALUE=DATE:20240325
DTEND;VALUE=DATE:20240401
END:VEVENT
END:VCALENDAR
