BEGIN:VCALENDAR
VERSION:2.0
PRODID:SchoolNow
CALSCALE:GREGORIAN
BEGIN:VEVENT
UID:a91254cc-2be9-11ee-995f-0e6883f767cf
DTSTAMP:20230726T192145Z
SUMMARY:School Resumes
URL;VALUE=URI:https://www.arbor145.org/calendar/4524436/school-resumes
DTSTART;VALUE=DATE:20240401
DTEND;VALUE=DATE:20240402
END:VEVENT
END:VCALENDAR
