BEGIN:VCALENDAR
VERSION:2.0
PRODID:SchoolNow
CALSCALE:GREGORIAN
BEGIN:VEVENT
UID:ba9d2960-2be9-11ee-b99d-0a58a9feac02
DTSTAMP:20240402T133902Z
SUMMARY:APMS Spring Pictures - (5th - 7th grade)
URL;VALUE=URI:https://www.arbor145.org/calendar/4524437/apms-spring-picture
 s
DTSTART;VALUE=DATE:20240422
DTEND;VALUE=DATE:20240423
END:VEVENT
END:VCALENDAR
