BEGIN:VCALENDAR
VERSION:2.0
PRODID:SchoolNow
CALSCALE:GREGORIAN
BEGIN:VEVENT
UID:06a48056-2bea-11ee-8477-02ef8f5c4d55
DTSTAMP:20230726T192422Z
SUMMARY:Mid Trimester III Grades Due
URL;VALUE=URI:https://www.arbor145.org/calendar/4524438/mid-trimester-iii-g
 rades-due
DTSTART;VALUE=DATE:20240410
DTEND;VALUE=DATE:20240411
END:VEVENT
END:VCALENDAR
