BEGIN:VCALENDAR
VERSION:2.0
PRODID:SchoolNow
CALSCALE:GREGORIAN
BEGIN:VEVENT
UID:1a43fa10-2bea-11ee-87a3-0e6883f767cf
DTSTAMP:20230726T192455Z
SUMMARY:APMS Mathematics Contest @ Kolmar
URL;VALUE=URI:https://www.arbor145.org/calendar/4524439/apms-mathematics-co
 ntest-kolmar
DTSTART;VALUE=DATE:20240411
DTEND;VALUE=DATE:20240412
END:VEVENT
END:VCALENDAR
