BEGIN:VCALENDAR
VERSION:2.0
PRODID:SchoolNow
CALSCALE:GREGORIAN
BEGIN:VEVENT
UID:3b3c0b90-2bea-11ee-82d1-02ef8f5c4d55
DTSTAMP:20230726T192551Z
SUMMARY:Mid Trimester III Progress Reports Available in ALMA
URL;VALUE=URI:https://www.arbor145.org/calendar/4524440/mid-trimester-iii-p
 rogress-reports-available-in-alma
DTSTART;VALUE=DATE:20240412
DTEND;VALUE=DATE:20240413
END:VEVENT
END:VCALENDAR
