BEGIN:VCALENDAR
VERSION:2.0
PRODID:SchoolNow
CALSCALE:GREGORIAN
BEGIN:VEVENT
UID:547389d0-2bea-11ee-b968-0a58a9feac02
DTSTAMP:20230726T192633Z
SUMMARY:APMS Scholastic Bowl @ Central Park
URL;VALUE=URI:https://www.arbor145.org/calendar/4524441/apms-scholastic-bow
 l-central-park
DTSTART;VALUE=DATE:20240427
DTEND;VALUE=DATE:20240428
END:VEVENT
END:VCALENDAR
