BEGIN:VCALENDAR
VERSION:2.0
PRODID:SchoolNow
CALSCALE:GREGORIAN
BEGIN:VEVENT
UID:730dde86-2bea-11ee-9921-026c53c55dab
DTSTAMP:20230726T192724Z
SUMMARY:APMS Star 360 Testing ELA
URL;VALUE=URI:https://www.arbor145.org/calendar/4524443/apms-star-360-testi
 ng-ela
DTSTART;VALUE=DATE:20240501
DTEND;VALUE=DATE:20240502
END:VEVENT
END:VCALENDAR
