BEGIN:VCALENDAR
VERSION:2.0
PRODID:SchoolNow
CALSCALE:GREGORIAN
BEGIN:VEVENT
UID:82c99932-2bea-11ee-8356-0a98f260fbcb
DTSTAMP:20230726T192751Z
SUMMARY:APMS Star 360 Testing Math
URL;VALUE=URI:https://www.arbor145.org/calendar/4524444/apms-star-360-testi
 ng-math
DTSTART;VALUE=DATE:20240502
DTEND;VALUE=DATE:20240503
END:VEVENT
END:VCALENDAR
