BEGIN:VCALENDAR
VERSION:2.0
PRODID:SchoolNow
CALSCALE:GREGORIAN
BEGIN:VEVENT
UID:99ac3f38-2bea-11ee-8922-0a58a9feac02
DTSTAMP:20230726T192829Z
SUMMARY:APMS Track Championship@Shephard H.S.
URL;VALUE=URI:https://www.arbor145.org/calendar/4524446/apms-track-champion
 ship-shephard-h-s
DTSTART;VALUE=DATE:20240508
DTEND;VALUE=DATE:20240509
END:VEVENT
END:VCALENDAR
