BEGIN:VCALENDAR
VERSION:2.0
PRODID:SchoolNow
CALSCALE:GREGORIAN
BEGIN:VEVENT
UID:ac90b67e-2bea-11ee-80aa-0a58a9feac02
DTSTAMP:20230726T192901Z
SUMMARY:APMS Track Rain Date@ Shephard H.S.
URL;VALUE=URI:https://www.arbor145.org/calendar/4524447/apms-track-rain-dat
 e-shephard-h-s
DTSTART;VALUE=DATE:20240509
DTEND;VALUE=DATE:20240510
END:VEVENT
END:VCALENDAR
