BEGIN:VCALENDAR
VERSION:2.0
PRODID:SchoolNow
CALSCALE:GREGORIAN
BEGIN:VEVENT
UID:c1ecbfd6-2bea-11ee-b490-0a58a9feac02
DTSTAMP:20230726T192937Z
SUMMARY:Staff Appreciation Week
URL;VALUE=URI:https://www.arbor145.org/calendar/4524448/staff-appreciation-
 week
DTSTART;VALUE=DATE:20240506
DTEND;VALUE=DATE:20240511
END:VEVENT
END:VCALENDAR
