BEGIN:VCALENDAR
VERSION:2.0
PRODID:SchoolNow
CALSCALE:GREGORIAN
BEGIN:VEVENT
UID:d78f7b58-2bea-11ee-8ed4-02ef8f5c4d55
DTSTAMP:20240213T175012Z
SUMMARY:APMS 8th Grade Graduation Ceremony
URL;VALUE=URI:https://www.arbor145.org/calendar/4524449/apms-8th-grade-grad
 uation-ceremony
DTSTART:20240523T233000Z
DTEND:20240524T003000Z
END:VEVENT
END:VCALENDAR
