BEGIN:VCALENDAR
VERSION:2.0
PRODID:SchoolNow
CALSCALE:GREGORIAN
BEGIN:VEVENT
UID:e4857862-2bea-11ee-8937-0a58a9feac02
DTSTAMP:20230726T193035Z
SUMMARY:Memorial Day - School Closed
URL;VALUE=URI:https://www.arbor145.org/calendar/4524450/memorial-day-school
 -closed
DTSTART;VALUE=DATE:20240527
DTEND;VALUE=DATE:20240528
END:VEVENT
END:VCALENDAR
