BEGIN:VCALENDAR
VERSION:2.0
PRODID:SchoolNow
CALSCALE:GREGORIAN
BEGIN:VEVENT
UID:f7892f4e-2bea-11ee-b852-0a58a9feac02
DTSTAMP:20230726T193107Z
SUMMARY:Trimester III Ends
URL;VALUE=URI:https://www.arbor145.org/calendar/4524451/trimester-iii-ends
DTSTART;VALUE=DATE:20240531
DTEND;VALUE=DATE:20240601
END:VEVENT
END:VCALENDAR
