BEGIN:VCALENDAR
VERSION:2.0
PRODID:SchoolNow
CALSCALE:GREGORIAN
BEGIN:VEVENT
UID:0bbfd0c6-2beb-11ee-bcb9-0a58a9feac02
DTSTAMP:20240618T191214Z
SUMMARY:Trimester III Report Cards Available in ALMA
URL;VALUE=URI:https://www.arbor145.org/calendar/4524452/tirmester-iii-repor
 t-cards-available-in-alma
DTSTART;VALUE=DATE:20240531
DTEND;VALUE=DATE:20240601
END:VEVENT
END:VCALENDAR
